BEGIN:VCALENDAR
VERSION:2.0
PRODID:-// - ECPv6.15.20//NONSGML v1.0//EN
CALSCALE:GREGORIAN
METHOD:PUBLISH
X-ORIGINAL-URL:https://bsv-lage.de
X-WR-CALDESC:Veranstaltungen für 
REFRESH-INTERVAL;VALUE=DURATION:PT1H
X-Robots-Tag:noindex
X-PUBLISHED-TTL:PT1H
BEGIN:VTIMEZONE
TZID:Europe/Berlin
BEGIN:DAYLIGHT
TZOFFSETFROM:+0100
TZOFFSETTO:+0200
TZNAME:CEST
DTSTART:20250330T010000
END:DAYLIGHT
BEGIN:STANDARD
TZOFFSETFROM:+0200
TZOFFSETTO:+0100
TZNAME:CET
DTSTART:20251026T010000
END:STANDARD
BEGIN:DAYLIGHT
TZOFFSETFROM:+0100
TZOFFSETTO:+0200
TZNAME:CEST
DTSTART:20260329T010000
END:DAYLIGHT
BEGIN:STANDARD
TZOFFSETFROM:+0200
TZOFFSETTO:+0100
TZNAME:CET
DTSTART:20261025T010000
END:STANDARD
BEGIN:DAYLIGHT
TZOFFSETFROM:+0100
TZOFFSETTO:+0200
TZNAME:CEST
DTSTART:20270328T010000
END:DAYLIGHT
BEGIN:STANDARD
TZOFFSETFROM:+0200
TZOFFSETTO:+0100
TZNAME:CET
DTSTART:20271031T010000
END:STANDARD
END:VTIMEZONE
BEGIN:VEVENT
DTSTART;TZID=Europe/Berlin:20260320T200000
DTEND;TZID=Europe/Berlin:20260320T220000
DTSTAMP:20260420T120136
CREATED:20250301T124915Z
LAST-MODIFIED:20260111T122904Z
UID:183-1774036800-1774044000@bsv-lage.de
SUMMARY:Generalversammlung
DESCRIPTION:
URL:https://bsv-lage.de/termin/generalversammlung/
LOCATION:Gaststätte Feldmann
CATEGORIES:Veranstaltungen Schützenverein
END:VEVENT
BEGIN:VEVENT
DTSTART;TZID=Europe/Berlin:20260323T200000
DTEND;TZID=Europe/Berlin:20260323T200000
DTSTAMP:20260420T120136
CREATED:20260101T190048Z
LAST-MODIFIED:20260111T121829Z
UID:197-1774296000-1774296000@bsv-lage.de
SUMMARY:2. Vorstandssitzung
DESCRIPTION:
URL:https://bsv-lage.de/termin/2-vorstandssitzung/
LOCATION:Schießstand im Vogelsang
CATEGORIES:Veranstaltungen Vorstand
END:VEVENT
END:VCALENDAR