BEGIN:VCALENDAR
VERSION:2.0
PRODID:-// - ECPv6.15.20//NONSGML v1.0//EN
CALSCALE:GREGORIAN
METHOD:PUBLISH
X-ORIGINAL-URL:https://bsv-lage.de
X-WR-CALDESC:Veranstaltungen für 
REFRESH-INTERVAL;VALUE=DURATION:PT1H
X-Robots-Tag:noindex
X-PUBLISHED-TTL:PT1H
BEGIN:VTIMEZONE
TZID:Europe/Berlin
BEGIN:DAYLIGHT
TZOFFSETFROM:+0100
TZOFFSETTO:+0200
TZNAME:CEST
DTSTART:20240331T010000
END:DAYLIGHT
BEGIN:STANDARD
TZOFFSETFROM:+0200
TZOFFSETTO:+0100
TZNAME:CET
DTSTART:20241027T010000
END:STANDARD
BEGIN:DAYLIGHT
TZOFFSETFROM:+0100
TZOFFSETTO:+0200
TZNAME:CEST
DTSTART:20250330T010000
END:DAYLIGHT
BEGIN:STANDARD
TZOFFSETFROM:+0200
TZOFFSETTO:+0100
TZNAME:CET
DTSTART:20251026T010000
END:STANDARD
BEGIN:DAYLIGHT
TZOFFSETFROM:+0100
TZOFFSETTO:+0200
TZNAME:CEST
DTSTART:20260329T010000
END:DAYLIGHT
BEGIN:STANDARD
TZOFFSETFROM:+0200
TZOFFSETTO:+0100
TZNAME:CET
DTSTART:20261025T010000
END:STANDARD
BEGIN:DAYLIGHT
TZOFFSETFROM:+0100
TZOFFSETTO:+0200
TZNAME:CEST
DTSTART:20270328T010000
END:DAYLIGHT
BEGIN:STANDARD
TZOFFSETFROM:+0200
TZOFFSETTO:+0100
TZNAME:CET
DTSTART:20271031T010000
END:STANDARD
END:VTIMEZONE
BEGIN:VEVENT
DTSTART;TZID=Europe/Berlin:20261002T193000
DTEND;TZID=Europe/Berlin:20261002T193000
DTSTAMP:20260422T132827
CREATED:20250301T124944Z
LAST-MODIFIED:20260111T123419Z
UID:191-1790969400-1790969400@bsv-lage.de
SUMMARY:Bayernabend
DESCRIPTION:
URL:https://bsv-lage.de/termin/bayernabend/
LOCATION:Schießstand im Vogelsang
CATEGORIES:Veranstaltungen Schützenverein
END:VEVENT
BEGIN:VEVENT
DTSTART;TZID=Europe/Berlin:20251009T200000
DTEND;TZID=Europe/Berlin:20251009T220000
DTSTAMP:20260422T132827
CREATED:20250720T123817Z
LAST-MODIFIED:20250720T124302Z
UID:2963-1760040000-1760047200@bsv-lage.de
SUMMARY:Schießabend: Herren- und Damenschießen
DESCRIPTION:
URL:https://bsv-lage.de/termin/schiessabend-herren-und-damenschiessen-10/
LOCATION:Schießstand im Vogelsang
CATEGORIES:Veranstaltungen Schießsport
END:VEVENT
BEGIN:VEVENT
DTSTART;TZID=Europe/Berlin:20251012T180000
DTEND;TZID=Europe/Berlin:20251012T220000
DTSTAMP:20260422T132827
CREATED:20250720T121050Z
LAST-MODIFIED:20250721T094606Z
UID:2952-1760292000-1760306400@bsv-lage.de
SUMMARY:SSV Pokalschießen (So. 12.10. bis Fr. 24.10.)
DESCRIPTION:SSV Pokalschießen vom So. 12.10. bis Fr. 24.10. Endstechen
URL:https://bsv-lage.de/termin/ssv-pokalschiessen/
LOCATION:Schießstand im Vogelsang
CATEGORIES:Veranstaltungen Schießsport
END:VEVENT
BEGIN:VEVENT
DTSTART;TZID=Europe/Berlin:20251023T200000
DTEND;TZID=Europe/Berlin:20251023T220000
DTSTAMP:20260422T132827
CREATED:20250720T123817Z
LAST-MODIFIED:20250720T124302Z
UID:2964-1761249600-1761256800@bsv-lage.de
SUMMARY:Schießabend: Herren- und Damenschießen
DESCRIPTION:
URL:https://bsv-lage.de/termin/schiessabend-herren-und-damenschiessen-11/
LOCATION:Schießstand im Vogelsang
CATEGORIES:Veranstaltungen Schießsport
END:VEVENT
BEGIN:VEVENT
DTSTART;TZID=Europe/Berlin:20251024T180000
DTEND;TZID=Europe/Berlin:20251024T220000
DTSTAMP:20260422T132827
CREATED:20250301T124944Z
LAST-MODIFIED:20250721T094709Z
UID:192-1761328800-1761343200@bsv-lage.de
SUMMARY:SSV Schießen Endstechen (So. 12.10. bis Fr. 24.10.)
DESCRIPTION:SSV Pokalschießen vom So. 12.10. bis Fr. 24.10. Endstechen
URL:https://bsv-lage.de/termin/ssv-schiessen-endstechen/
LOCATION:Schießstand im Vogelsang
CATEGORIES:Veranstaltungen Schießsport
END:VEVENT
BEGIN:VEVENT
DTSTART;TZID=Europe/Berlin:20251030T193000
DTEND;TZID=Europe/Berlin:20251030T220000
DTSTAMP:20260422T132827
CREATED:20250720T123817Z
LAST-MODIFIED:20250720T124302Z
UID:2965-1761852600-1761861600@bsv-lage.de
SUMMARY:Schießabend: Herren-. Damen- und Jugendschießen
DESCRIPTION:
URL:https://bsv-lage.de/termin/schiessabend-herren-damen-und-jugendschiessen-4/
LOCATION:Schießstand im Vogelsang
CATEGORIES:Veranstaltungen Schießsport
END:VEVENT
END:VCALENDAR